BEGIN:VCALENDAR
VERSION:2.0
PRODID:-//The Hexagon Board Game Cafe - ECPv6.15.11//NONSGML v1.0//EN
CALSCALE:GREGORIAN
METHOD:PUBLISH
X-WR-CALNAME:The Hexagon Board Game Cafe
X-ORIGINAL-URL:https://thehexcafe.com
X-WR-CALDESC:Events for The Hexagon Board Game Cafe
REFRESH-INTERVAL;VALUE=DURATION:PT1H
X-Robots-Tag:noindex
X-PUBLISHED-TTL:PT1H
BEGIN:VTIMEZONE
TZID:America/Edmonton
BEGIN:DAYLIGHT
TZOFFSETFROM:-0700
TZOFFSETTO:-0600
TZNAME:MDT
DTSTART:20250309T090000
END:DAYLIGHT
BEGIN:STANDARD
TZOFFSETFROM:-0600
TZOFFSETTO:-0700
TZNAME:MST
DTSTART:20251102T080000
END:STANDARD
BEGIN:DAYLIGHT
TZOFFSETFROM:-0700
TZOFFSETTO:-0600
TZNAME:MDT
DTSTART:20260308T090000
END:DAYLIGHT
BEGIN:STANDARD
TZOFFSETFROM:-0600
TZOFFSETTO:-0700
TZNAME:MST
DTSTART:20261101T080000
END:STANDARD
BEGIN:DAYLIGHT
TZOFFSETFROM:-0700
TZOFFSETTO:-0600
TZNAME:MDT
DTSTART:20270314T090000
END:DAYLIGHT
BEGIN:STANDARD
TZOFFSETFROM:-0600
TZOFFSETTO:-0700
TZNAME:MST
DTSTART:20271107T080000
END:STANDARD
END:VTIMEZONE
BEGIN:VEVENT
DTSTART;TZID=America/Edmonton:20260423T190000
DTEND;TZID=America/Edmonton:20260423T190000
DTSTAMP:20260423T014341
CREATED:20260225T085524Z
LAST-MODIFIED:20260226T023249Z
UID:24377-1776970800-1776970800@thehexcafe.com
SUMMARY:Puzzle Playoff: The 1000 @ Hex Calgary
DESCRIPTION:Only for the fastest puzzlers! Teams of 3–4 take on a 1000-piece puzzle in a high-speed race against the clock. Think you’ve got what it takes? The quickest team claims a bonus 1000-piece puzzle of their choice. \nCost: $75 per team (3–4 people)Includes one 1000-piece puzzle to keep and 4 drink tickets.When: Once a month on select Thursdays \n Register
URL:https://thehexcafe.com/event/puzzle-playoff-the-1000-hex-calgary-2/
LOCATION:Hexagon Calgary\, 200\, 1140 Kensington Rd NW\, Calgary\, Alberta
CATEGORIES:Puzzle
ATTACH;FMTTYPE=image/png:https://thehexcafe.com/wp-content/uploads/2025/11/Puzzle-Playoff-1000-scaled-16-9.png
END:VEVENT
END:VCALENDAR